BEGIN:VCALENDAR
VERSION:2.0
PRODID:icalendar-ruby
CALSCALE:GREGORIAN
METHOD:PUBLISH
BEGIN:VEVENT
DTSTAMP:20260422T002809Z
UID:12-893979@lansingunited222.tithelysetup5.com
DTSTART:20260830T150000Z
DTEND:20260830T160000Z
CLASS:PUBLIC
CREATED:20260421T190150
DESCRIPTION:Take a look at current news topics and world events through th
 e lens of scripture. Each week is a new session–come every Sunday\, just
  when you can\, or when the topic is one about which you’re particularly
  passionate. There’s no need to prepare in advance\, but if you would l
 ike to receive weekly materials ahead of time\, email group facilitator Ju
 dy Hinderliter.
LAST-MODIFIED:20260421T190150
LOCATION:Library
SUMMARY:Wired Word
URL;VALUE=URI:https://www.lansingunited.org/events/wired-word/2026-08-30
ATTACH;FILENAME=bible_crosses-28.jpg;FMTTYPE=image/jpeg:https://dq5pwpg1q8r
 u0.cloudfront.net/2025/11/16/15/24/40/617c8b0d-4eaf-4e10-8d1b-9bc33e56e9a2
 /bible_crosses-28.jpg
END:VEVENT
END:VCALENDAR
