BEGIN:VCALENDAR
VERSION:2.0
PRODID:icalendar-ruby
CALSCALE:GREGORIAN
METHOD:PUBLISH
BEGIN:VEVENT
DTSTAMP:20260422T170444Z
UID:30-897608@lansingunited222.tithelysetup5.com
DTSTART:20260930T214500Z
DTEND:20260930T220000Z
CLASS:PUBLIC
CREATED:20260422T114414
DESCRIPTION:
LAST-MODIFIED:20260422T114414
LOCATION:Library
SUMMARY:Setup: Bells Angels Rehearsal
URL;VALUE=URI:https://www.lansingunited.org/events/setup-bells-angels-rehea
 rsal/2026-09-30
ATTACH;FILENAME=IMG_20251116_105556.jpg;FMTTYPE=image/jpeg:https://dq5pwpg1
 q8ru0.cloudfront.net/2025/12/03/00/55/36/e08c0d37-0280-4d66-9d90-8c459c2a8
 59d/IMG_20251116_105556.jpg
END:VEVENT
END:VCALENDAR
