BEGIN:VCALENDAR
VERSION:2.0
PRODID:icalendar-ruby
CALSCALE:GREGORIAN
METHOD:PUBLISH
BEGIN:VEVENT
DTSTAMP:20260421T195648Z
UID:16-892069@lansingunited222.tithelysetup5.com
DTSTART:20261011T150000Z
DTEND:20261011T163000Z
CLASS:PUBLIC
CREATED:20260421T134725
DESCRIPTION:Jr. &amp\; Sr. High SOUP (Sunday Group) is a combined Sunday Sc
 hool and Youth Group format all rolled into one!  There is a focus on put
 ting faith into action with mission and outreach projects for the church\,
  community\, and world along with singing and music making of a contempora
 ry focus with Sharon Powell.\nSr. High SOUP (9th-12th Grade) Teachers:  
 Wendy Davis &amp\; Naomi Littlejohn
LAST-MODIFIED:20260421T134725
LOCATION:Purple Classroom
SUMMARY:Senior High SOUP
URL;VALUE=URI:https://www.lansingunited.org/events/senior-high-soup/2026-10
 -11
ATTACH;FILENAME=mPDB.jpg;FMTTYPE=image/jpeg:https://dq5pwpg1q8ru0.cloudfron
 t.net/2025/11/16/16/13/37/f7661005-a897-479e-87fc-26165bed764a/mPDB.jpg
END:VEVENT
END:VCALENDAR
