BEGIN:VCALENDAR
VERSION:2.0
PRODID:icalendar-ruby
CALSCALE:GREGORIAN
METHOD:PUBLISH
BEGIN:VEVENT
DTSTAMP:20260422T101805Z
UID:139-878136@lansingunited222.tithelysetup5.com
DTSTART:20260423T220000Z
DTEND:20260424T000000Z
CLASS:PUBLIC
CREATED:20260419T105902
DESCRIPTION:
LAST-MODIFIED:20260419T105902
LOCATION:Fellowship Hall
SUMMARY:Interfaith Community Dinner
URL;VALUE=URI:https://www.lansingunited.org/events/interfaith-community-din
 ner--139/2026-04-23
ATTACH;FILENAME=Community-Dinner-PNG-File-4_2026.png;FMTTYPE=image/png:http
 s://dq5pwpg1q8ru0.cloudfront.net/2026/04/10/02/26/20/ea7cd816-3cff-41db-98
 75-34815b52bb68/Community-Dinner-PNG-File-4_2026.png
END:VEVENT
END:VCALENDAR
