BEGIN:VCALENDAR
VERSION:2.0
PRODID:icalendar-ruby
CALSCALE:GREGORIAN
METHOD:PUBLISH
BEGIN:VEVENT
DTSTAMP:20260422T085207Z
UID:141-888536@lansingunited222.tithelysetup5.com
DTSTART:20260723T210000Z
DTEND:20260723T233000Z
CLASS:PUBLIC
CREATED:20260420T194513
DESCRIPTION:
LAST-MODIFIED:20260420T194513
LOCATION:Library
SUMMARY:Event
URL;VALUE=URI:https://www.lansingunited.org/events/event/2026-07-23
END:VEVENT
END:VCALENDAR
