BEGIN:VCALENDAR
VERSION:2.0
PRODID:icalendar-ruby
CALSCALE:GREGORIAN
METHOD:PUBLISH
BEGIN:VEVENT
DTSTAMP:20260422T101855Z
UID:112-703027@lansingunited222.tithelysetup5.com
DTSTART:20260502T170000Z
DTEND:20260502T200000Z
CLASS:PUBLIC
CREATED:20260320T185829
DESCRIPTION:
LAST-MODIFIED:20260320T185829
LOCATION:
SUMMARY:Event Cleanup
URL;VALUE=URI:https://www.lansingunited.org/events/event-cleanup--112/2026-
 05-02
ATTACH;FILENAME=IMG_20251116_095440.jpg;FMTTYPE=image/jpeg:https://dq5pwpg1
 q8ru0.cloudfront.net/2026/03/20/22/58/28/b6d58f54-c4af-4fb8-9e9a-e967e81ff
 13a/IMG_20251116_095440.jpg
END:VEVENT
END:VCALENDAR
