BEGIN:VCALENDAR
VERSION:2.0
PRODID:icalendar-ruby
CALSCALE:GREGORIAN
METHOD:PUBLISH
BEGIN:VEVENT
DTSTAMP:20260422T101855Z
UID:113-703029@lansingunited222.tithelysetup5.com
DTSTART:20260517T160000Z
DTEND:20260517T190000Z
CLASS:PUBLIC
CREATED:20260320T190418
DESCRIPTION:
LAST-MODIFIED:20260320T190418
LOCATION:
SUMMARY:Church Workday
URL;VALUE=URI:https://www.lansingunited.org/events/church-workday/2026-05-1
 7
ATTACH;FILENAME=jeshoots-com-__ZMnefoI3k-unsplash.jpg;FMTTYPE=image/jpeg:ht
 tps://dq5pwpg1q8ru0.cloudfront.net/2026/03/20/23/04/17/5057e84b-0836-4c4c-
 93a4-ed21c8a2f97a/jeshoots-com-__ZMnefoI3k-unsplash.jpg
END:VEVENT
END:VCALENDAR
